BEGIN:VCALENDAR
VERSION:2.0
PRODID:Carson City Calendar Creator
METHOD:PUBLISH
BEGIN:VEVENT
DTSTAMP:20221130T134432
DTSTART:20221206T000000
DTEND:20221206T235900
SUMMARY:Local Emergency Planning Committee
DESCRIPTION:<a href="https://www.carsoncity.gov/home/showpublisheddocument/82840/638054122932400000" target="_blank">LEPC Agenda 12.06.22</a>
X-ALT-DESC;FMTTYPE=text/html:<a href="https://www.carsoncity.gov/home/showpublisheddocument/82840/638054122932400000" target="_blank">LEPC Agenda 12.06.22</a>
LOCATION:Carson City Fire Department\, 777 S Stewart St. Carson City\, Nevada 89701
CLASS:PUBLIC
END:VEVENT
END:VCALENDAR
