BEGIN:VCALENDAR
VERSION:2.0
PRODID:Carson City Calendar Creator
METHOD:PUBLISH
BEGIN:VEVENT
DTSTAMP:20220323T135924
DTSTART:20220125T000000
DTEND:20220125T235900
SUMMARY:9-1-1 Surcharge Advisory Committee
DESCRIPTION:<a href="https://www.carsoncity.gov/government/city-meetings-live-broadcast-and-archives/agendas/9-1-1-surcharge-advisory-committee/9-1-1-surcharge-advisory-committee-2022-agendas">Agenda</a>
X-ALT-DESC;FMTTYPE=text/html:<a href="https://www.carsoncity.gov/government/city-meetings-live-broadcast-and-archives/agendas/9-1-1-surcharge-advisory-committee/9-1-1-surcharge-advisory-committee-2022-agendas">Agenda</a>
LOCATION:Carson City Fire Department\, 777 S Stewart St. Carson City\, Nevada 89701
CLASS:PUBLIC
END:VEVENT
END:VCALENDAR
