BEGIN:VCALENDAR
VERSION:2.0
PRODID:Carson City Calendar Creator
METHOD:PUBLISH
BEGIN:VEVENT
DTSTAMP:20220713T153658
DTSTART:20220719T000000
DTEND:20220719T235900
SUMMARY:9-1-1 Surcharge Advisory Committee
DESCRIPTION:<a href="https://www.carsoncity.gov/home/showpublisheddocument/81153/637933228808400000" target="_blank">911 Agenda 07.19.22</a>
X-ALT-DESC;FMTTYPE=text/html:<a href="https://www.carsoncity.gov/home/showpublisheddocument/81153/637933228808400000" target="_blank">911 Agenda 07.19.22</a>
LOCATION:Carson City Fire Department\, 777 S Stewart St. Carson City\, Nevada 89701
CLASS:PUBLIC
END:VEVENT
END:VCALENDAR
