BEGIN:VCALENDAR
VERSION:2.0
PRODID:Carson City Calendar Creator
METHOD:PUBLISH
BEGIN:VEVENT
DTSTAMP:20221012T150653
DTSTART:20221018T000000
DTEND:20221018T235900
SUMMARY:9-1-1 Surcharge Advisory Committee
DESCRIPTION:<a href="https://www.carsoncity.gov/home/showpublisheddocument/82184/638011836500600000" target="_blank">911 Agenda 10.18.22</a>
X-ALT-DESC;FMTTYPE=text/html:<a href="https://www.carsoncity.gov/home/showpublisheddocument/82184/638011836500600000" target="_blank">911 Agenda 10.18.22</a>
LOCATION:Carson City Fire Department\, 777 S Stewart St. Carson City\, Nevada 89701
CLASS:PUBLIC
END:VEVENT
END:VCALENDAR
