BEGIN:VCALENDAR
VERSION:2.0
PRODID:Carson City Calendar Creator
METHOD:PUBLISH
BEGIN:VEVENT
DTSTAMP:20220427T151149
DTSTART:20220428T173000
DTEND:20220428T205900
SUMMARY:Carson City Library Board of Trustees
DESCRIPTION:<p data-uw-styling-context="true"><a href="https://www.carsoncity.gov/government/city-meetings">Livestream</a></p><p data-uw-styling-context="true"><a href="https://www.carsoncity.gov/home/showpublisheddocument/80078/637866686803800000" target="_blank">Supporting Materials</a></p><p data-uw-styling-context="true"><a href="https://www.carsoncity.gov/home/showpublisheddocument/80080/637866689541470000" target="_blank">Late Materials</a></p><p data-uw-styling-context="true"><a href="https://carsoncitylibrary.org/board-meetings/" target="_blank" data-uw-styling-context="true">https://carsoncitylibrary.org/board-meetings/</a></p>
X-ALT-DESC;FMTTYPE=text/html:<p data-uw-styling-context="true"><a href="https://www.carsoncity.gov/government/city-meetings">Livestream</a></p><p data-uw-styling-context="true"><a href="https://www.carsoncity.gov/home/showpublisheddocument/80078/637866686803800000" target="_blank">Supporting Materials</a></p><p data-uw-styling-context="true"><a href="https://www.carsoncity.gov/home/showpublisheddocument/80080/637866689541470000" target="_blank">Late Materials</a></p><p data-uw-styling-context="true"><a href="https://carsoncitylibrary.org/board-meetings/" target="_blank" data-uw-styling-context="true">https://carsoncitylibrary.org/board-meetings/</a></p>
LOCATION:Community Center\, Robert "Bob" Crowell Board Room\, 851 East William Street Carson City\, Nevada 89701
CLASS:PUBLIC
END:VEVENT
END:VCALENDAR
