BEGIN:VCALENDAR
VERSION:2.0
PRODID:Carson City Calendar Creator
METHOD:PUBLISH
BEGIN:VEVENT
DTSTAMP:20220614T102007
DTSTART:20220620T000000
DTEND:20220620T235900
SUMMARY:Juneteenth Observed
DESCRIPTION:<p>All City Office will be closed to observe Juneteenth. **</p><p>**The Elections Office will be OPEN on June 20th. All other Clerk/Recorder Offices will be closed.</p><p>&nbsp;</p>
X-ALT-DESC;FMTTYPE=text/html:<p>All City Office will be closed to observe Juneteenth. **</p><p>**The Elections Office will be OPEN on June 20th. All other Clerk/Recorder Offices will be closed.</p><p>&nbsp;</p>
LOCATION:
CLASS:PUBLIC
END:VEVENT
END:VCALENDAR
