BEGIN:VCALENDAR
VERSION:2.0
PRODID:Carson City Calendar Creator
METHOD:PUBLISH
BEGIN:VEVENT
DTSTAMP:20220615T093558
DTSTART:20220621T163000
DTEND:20220621T183000
SUMMARY:Advisory Board to Manage Wildlife
DESCRIPTION:<p><a href="https://www.carsoncity.gov/home/showpublisheddocument/80749/637908788039670000" target="_blank">Advisory Board to Manage Wildlife agenda</a></p><p><a href="https://www.carsoncity.gov/home/showpublisheddocument/80751/637908788420170000" target="_blank">Draft minutes</a></p><p><a href="https://www.carsoncity.gov/home/showpublisheddocument/80755/637908825509870000" target="_blank">Support Material</a>&nbsp;</p><p><a href="https://protect-us.mimecast.com/s/G5khCER7l9f3xXMkIQYlp2?domain=linkprotect.cudasvc.com">https://www.ndow.org/events/june-2022-commission-meeting/</a></p>
X-ALT-DESC;FMTTYPE=text/html:<p><a href="https://www.carsoncity.gov/home/showpublisheddocument/80749/637908788039670000" target="_blank">Advisory Board to Manage Wildlife agenda</a></p><p><a href="https://www.carsoncity.gov/home/showpublisheddocument/80751/637908788420170000" target="_blank">Draft minutes</a></p><p><a href="https://www.carsoncity.gov/home/showpublisheddocument/80755/637908825509870000" target="_blank">Support Material</a>&nbsp;</p><p><a href="https://protect-us.mimecast.com/s/G5khCER7l9f3xXMkIQYlp2?domain=linkprotect.cudasvc.com">https://www.ndow.org/events/june-2022-commission-meeting/</a></p>
LOCATION:Carson City Community Center\, Bonanza Room\, 
CLASS:PUBLIC
END:VEVENT
END:VCALENDAR
