BEGIN:VCALENDAR
VERSION:2.0
PRODID:Carson City Calendar Creator
METHOD:PUBLISH
BEGIN:VEVENT
DTSTAMP:20220719T143739
DTSTART:20220725T173000
DTEND:20220725T213000
SUMMARY:Cultural Commission
DESCRIPTION:<p><a href="https://www.carsoncity.gov/home/showpublisheddocument/81271/637938365965100000" target="_blank">Agenda With Supporting Materials&nbsp;</a></p><p><a href="https://www.carsoncity.gov/government/city-meetings">Webcast&nbsp;</a></p>
X-ALT-DESC;FMTTYPE=text/html:<p><a href="https://www.carsoncity.gov/home/showpublisheddocument/81271/637938365965100000" target="_blank">Agenda With Supporting Materials&nbsp;</a></p><p><a href="https://www.carsoncity.gov/government/city-meetings">Webcast&nbsp;</a></p>
LOCATION:Community Center\, Robert "Bob" Crowell Board Room\, 851 East William Street Carson City\, Nevada 89701
CLASS:PUBLIC
END:VEVENT
END:VCALENDAR
