BEGIN:VCALENDAR
VERSION:2.0
PRODID:Carson City Calendar Creator
METHOD:PUBLISH
BEGIN:VEVENT
DTSTAMP:20220701T161601
DTSTART:20220709T073000
DTEND:20220709T103000
SUMMARY:2022 Capital City Kids' Triathlon
DESCRIPTION:Hosted by Carson City Tigersharks<br>This race is the perfect introduction to the world of triath-lon for children 4-13. The aim of the game is smiles and competition. Swim at Carson City's indoor Olympic-sized pool, and bike and run in iconic Mills Park.
X-ALT-DESC;FMTTYPE=text/html:Hosted by Carson City Tigersharks<br>This race is the perfect introduction to the world of triath-lon for children 4-13. The aim of the game is smiles and competition. Swim at Carson City's indoor Olympic-sized pool, and bike and run in iconic Mills Park.
LOCATION:Carson Aquatic Facility\, 841 N. Roop Carson City\, Nevada 89701
CLASS:PUBLIC
END:VEVENT
END:VCALENDAR
