BEGIN:VCALENDAR
VERSION:2.0
PRODID:Carson City Calendar Creator
METHOD:PUBLISH
BEGIN:VEVENT
DTSTAMP:20220701T162059
DTSTART:20220806T163000
DTEND:20220806T183000
SUMMARY:Movers and Doers Kayaking
DESCRIPTION:Learn to kayak with certified instructors at the Carson Aquatic facility.
X-ALT-DESC;FMTTYPE=text/html:Learn to kayak with certified instructors at the Carson Aquatic facility.
LOCATION:Carson Aquatic Facility\, 841 N. Roop Carson City\, Nevada 89701
CLASS:PUBLIC
END:VEVENT
END:VCALENDAR
