BEGIN:VCALENDAR
VERSION:2.0
PRODID:Carson City Calendar Creator
METHOD:PUBLISH
BEGIN:VEVENT
DTSTAMP:20220701T162455
DTSTART:20220910T101500
DTEND:20220910T235900
SUMMARY:Movers and Doers Wild Island
DESCRIPTION:Float, swim, and slide at the Wild Island Waterpark. Make sure to bring sunscreen and plenty to drink. Lunch will be provided.
X-ALT-DESC;FMTTYPE=text/html:Float, swim, and slide at the Wild Island Waterpark. Make sure to bring sunscreen and plenty to drink. Lunch will be provided.
LOCATION:
CLASS:PUBLIC
END:VEVENT
END:VCALENDAR
