BEGIN:VCALENDAR
VERSION:2.0
PRODID:Carson City Calendar Creator
METHOD:PUBLISH
BEGIN:VEVENT
DTSTAMP:20220701T162813
DTSTART:20220924T160000
DTEND:20220924T220000
SUMMARY:6th Annual Night Under the Lights Skate Comp
DESCRIPTION:Sponsored by The Wheelhouse<br>This will be a freestyle competition where participants re-ceive three 40 second runs to put together their best lines and biggest tricks. The skate park will be lighted for the later portions of the competition after dark. After each run, participants will be judged by experienced skating pros from the Wheelhouse, and the winner of each cate-gory will receive a prize! Categories are divided by begin-ner, intermediate, and advanced for skateboarding and scootering. Only have one awesome trick? Sign up for the Best Trick Contest! Register with Carson City Parks and Recreation or at the Wheelhouse, located at 1800 E. Wil-liam St. in Carson City, or online at www.carsoncity.gov/ccpr.
X-ALT-DESC;FMTTYPE=text/html:Sponsored by The Wheelhouse<br>This will be a freestyle competition where participants re-ceive three 40 second runs to put together their best lines and biggest tricks. The skate park will be lighted for the later portions of the competition after dark. After each run, participants will be judged by experienced skating pros from the Wheelhouse, and the winner of each cate-gory will receive a prize! Categories are divided by begin-ner, intermediate, and advanced for skateboarding and scootering. Only have one awesome trick? Sign up for the Best Trick Contest! Register with Carson City Parks and Recreation or at the Wheelhouse, located at 1800 E. Wil-liam St. in Carson City, or online at www.carsoncity.gov/ccpr.
LOCATION:Mills Park\, 1111 E. Williams Street Carson City\, Nevada 89701
CLASS:PUBLIC
END:VEVENT
END:VCALENDAR
