BEGIN:VCALENDAR
VERSION:2.0
PRODID:Carson City Calendar Creator
METHOD:PUBLISH
BEGIN:VEVENT
DTSTAMP:20220721T091123
DTSTART:20220801T173000
DTEND:20220801T235900
SUMMARY:REDEVELOPMENT AUTHORITY CITIZENS COMMITTEE
DESCRIPTION:<p><a href="https://www.carsoncity.gov/government/city-meetings-live-broadcast-and-archives/agendas/redevelopment-authority-citizens-committee-agendas-with-supporting-materials/2022-agenda-with-supporting-materials/08-01-2022-redevelopment-authority-citizens-committee-agenda">Agenda with Supporting Material</a></p><p><a href="https://www.carsoncity.gov/our-city/city-meetings-agendas-minutes-and-broadcast">Webcast</a></p>
X-ALT-DESC;FMTTYPE=text/html:<p><a href="https://www.carsoncity.gov/government/city-meetings-live-broadcast-and-archives/agendas/redevelopment-authority-citizens-committee-agendas-with-supporting-materials/2022-agenda-with-supporting-materials/08-01-2022-redevelopment-authority-citizens-committee-agenda">Agenda with Supporting Material</a></p><p><a href="https://www.carsoncity.gov/our-city/city-meetings-agendas-minutes-and-broadcast">Webcast</a></p>
LOCATION:Community Center\, Robert "Bob" Crowell Board Room\, 851 East William Street Carson City\, Nevada 89701
CLASS:PUBLIC
END:VEVENT
END:VCALENDAR
