BEGIN:VCALENDAR
VERSION:2.0
PRODID:Carson City Calendar Creator
METHOD:PUBLISH
BEGIN:VEVENT
DTSTAMP:20220728T123858
DTSTART:20220728T173000
DTEND:20220728T235900
SUMMARY:Carson City Library Board of Trustees
DESCRIPTION:<p><a href="https://www.carsoncity.gov/government/city-meetings" target="_blank">Livestream</a></p><p><a href="https://www.carsoncity.gov/home/showpublisheddocument/81323/637941077958970000" target="_blank">Supporting Materials</a></p><p><a href="https://www.carsoncity.gov/home/showpublisheddocument/81349/637946084615930000" target="_blank">LATE MATERIALS</a> ADDED</p><p><a href="https://carsoncitylibrary.org/board-meetings/" target="_blank">carsoncitylibrary.org/board-meetings/</a></p>
X-ALT-DESC;FMTTYPE=text/html:<p><a href="https://www.carsoncity.gov/government/city-meetings" target="_blank">Livestream</a></p><p><a href="https://www.carsoncity.gov/home/showpublisheddocument/81323/637941077958970000" target="_blank">Supporting Materials</a></p><p><a href="https://www.carsoncity.gov/home/showpublisheddocument/81349/637946084615930000" target="_blank">LATE MATERIALS</a> ADDED</p><p><a href="https://carsoncitylibrary.org/board-meetings/" target="_blank">carsoncitylibrary.org/board-meetings/</a></p>
LOCATION:Community Center\, Robert "Bob" Crowell Board Room\, 851 East William Street Carson City\, Nevada 89701
CLASS:PUBLIC
END:VEVENT
END:VCALENDAR
