BEGIN:VCALENDAR
VERSION:2.0
PRODID:Carson City Calendar Creator
METHOD:PUBLISH
BEGIN:VEVENT
DTSTAMP:20220810T093540
DTSTART:20220816T173000
DTEND:20220816T180000
SUMMARY:Parks and Recreation Commission Meeting
DESCRIPTION:<p><a href="https://www.carsoncity.gov/home/showpublisheddocument/81471" target="_blank">Agenda</a></p><p><a href="https://www.carsoncity.gov/government/city-meetings-live-broadcast-and-archives/agendas/parks-and-recreation-commission-agenda-with-supporting-materials/08-16-2022-agenda-with-supporting-materials" target="_blank">Agenda with Supporting Materials</a></p>
X-ALT-DESC;FMTTYPE=text/html:<p><a href="https://www.carsoncity.gov/home/showpublisheddocument/81471" target="_blank">Agenda</a></p><p><a href="https://www.carsoncity.gov/government/city-meetings-live-broadcast-and-archives/agendas/parks-and-recreation-commission-agenda-with-supporting-materials/08-16-2022-agenda-with-supporting-materials" target="_blank">Agenda with Supporting Materials</a></p>
LOCATION:
CLASS:PUBLIC
END:VEVENT
END:VCALENDAR
