BEGIN:VCALENDAR
VERSION:2.0
PRODID:Carson City Calendar Creator
METHOD:PUBLISH
BEGIN:VEVENT
DTSTAMP:20220808T124446
DTSTART:20220815T173000
DTEND:20220815T173000
SUMMARY:Open Space Advisory Committee Meeting - CANCELLED
DESCRIPTION:<a href="https://www.carsoncity.gov/home/showpublisheddocument/81441" target="_blank">Notice of Cancellation</a>
X-ALT-DESC;FMTTYPE=text/html:<a href="https://www.carsoncity.gov/home/showpublisheddocument/81441" target="_blank">Notice of Cancellation</a>
LOCATION:Community Center\, Robert "Bob" Crowell Board Room\, 851 East William Street Carson City\, Nevada 89701
CLASS:PUBLIC
END:VEVENT
END:VCALENDAR
