BEGIN:VCALENDAR
VERSION:2.0
PRODID:Carson City Calendar Creator
METHOD:PUBLISH
BEGIN:VEVENT
DTSTAMP:20220808T145037
DTSTART:20220815T163000
DTEND:20220815T183000
SUMMARY:Advisory Board to Manage Wildlife
DESCRIPTION:<p><a href="https://www.carsoncity.gov/home/showpublisheddocument/81449/637955669804630000" target="_blank">Advisory Board to Manage Wildlife Agenda</a></p><p><a href="https://www.carsoncity.gov/home/showpublisheddocument/81451/637955670051200000" target="_blank">Draft Minutes</a></p><p><a href="https://www.carsoncity.gov/home/showpublisheddocument/81453/637955670318270000" target="_blank">Support Material</a>&nbsp;</p>
X-ALT-DESC;FMTTYPE=text/html:<p><a href="https://www.carsoncity.gov/home/showpublisheddocument/81449/637955669804630000" target="_blank">Advisory Board to Manage Wildlife Agenda</a></p><p><a href="https://www.carsoncity.gov/home/showpublisheddocument/81451/637955670051200000" target="_blank">Draft Minutes</a></p><p><a href="https://www.carsoncity.gov/home/showpublisheddocument/81453/637955670318270000" target="_blank">Support Material</a>&nbsp;</p>
LOCATION:
CLASS:PUBLIC
END:VEVENT
END:VCALENDAR
