BEGIN:VCALENDAR
VERSION:2.0
PRODID:Carson City Calendar Creator
METHOD:PUBLISH
BEGIN:VEVENT
DTSTAMP:20251022T152547
DTSTART:20220815T080000
DTEND:20220815T170000
SUMMARY:Reminder-Property Tax Due
DESCRIPTION:<p><strong>ON MONDAY, AUGUST 15, 2022 THE FIRST INSTALLMENT OF THE FISCAL YEAR 2022-2023 Real Property Taxes</strong>&nbsp;are due and payable in the office of the Carson City Treasurer, located inside City Hall, 201 N. Carson Street Suite #5.&nbsp; For your convenience, you can make a payment online at&nbsp;<a href="https://carsoncitynv.devnetwedge.com/" target="_blank">www.carsoncity.gov</a>.</p><p><em><strong><span style="text-decoration: underline;">If you already made a payment, please disregard this notice.</span></strong></em></p>
X-ALT-DESC;FMTTYPE=text/html:<p><strong>ON MONDAY, AUGUST 15, 2022 THE FIRST INSTALLMENT OF THE FISCAL YEAR 2022-2023 Real Property Taxes</strong>&nbsp;are due and payable in the office of the Carson City Treasurer, located inside City Hall, 201 N. Carson Street Suite #5.&nbsp; For your convenience, you can make a payment online at&nbsp;<a href="https://carsoncitynv.devnetwedge.com/" target="_blank">www.carsoncity.gov</a>.</p><p><em><strong><span style="text-decoration: underline;">If you already made a payment, please disregard this notice.</span></strong></em></p>
LOCATION:City Hall\, 201 North Carson Street Carson City\, Nevada 89701
CLASS:PUBLIC
END:VEVENT
END:VCALENDAR
