BEGIN:VCALENDAR
VERSION:2.0
PRODID:Carson City Calendar Creator
METHOD:PUBLISH
BEGIN:VEVENT
DTSTAMP:20220815T115046
DTSTART:20220823T133000
DTEND:20220823T153000
SUMMARY:Carson City Debt Management Commission
DESCRIPTION:<p><a href="https://www.carsoncity.gov/home/showpublisheddocument/81571/637961605363270000" target="_blank">8-23-22 Agenda</a></p><p><a href="https://www.carsoncity.gov/home/showpublisheddocument/81573/637961605806900000" target="_blank">Draft Minutes</a></p><p><a href="https://www.carsoncity.gov/home/showpublisheddocument/81575/637961606368970000" target="_blank">Carson City &amp; RA support material</a></p><p><a href="https://www.carsoncity.gov/home/showpublisheddocument/81577/637961606914600000" target="_blank">CC School District support material</a></p><p><a href="https://www.carsoncity.gov/home/showpublisheddocument/81581/637961610402870000" target="_blank">Agenda item E (Resolution 2022-DMC-R-1)</a></p><p><a href="https://www.carsoncity.gov/home/showpublisheddocument/81579/637961607359630000" target="_blank">Agenda items F &amp; G</a></p><p>&nbsp;</p>
X-ALT-DESC;FMTTYPE=text/html:<p><a href="https://www.carsoncity.gov/home/showpublisheddocument/81571/637961605363270000" target="_blank">8-23-22 Agenda</a></p><p><a href="https://www.carsoncity.gov/home/showpublisheddocument/81573/637961605806900000" target="_blank">Draft Minutes</a></p><p><a href="https://www.carsoncity.gov/home/showpublisheddocument/81575/637961606368970000" target="_blank">Carson City &amp; RA support material</a></p><p><a href="https://www.carsoncity.gov/home/showpublisheddocument/81577/637961606914600000" target="_blank">CC School District support material</a></p><p><a href="https://www.carsoncity.gov/home/showpublisheddocument/81581/637961610402870000" target="_blank">Agenda item E (Resolution 2022-DMC-R-1)</a></p><p><a href="https://www.carsoncity.gov/home/showpublisheddocument/81579/637961607359630000" target="_blank">Agenda items F &amp; G</a></p><p>&nbsp;</p>
LOCATION:Community Center\, Robert "Bob" Crowell Board Room\, 851 East William Street Carson City\, Nevada 89701
CLASS:PUBLIC
END:VEVENT
END:VCALENDAR
