BEGIN:VCALENDAR
VERSION:2.0
PRODID:Carson City Calendar Creator
METHOD:PUBLISH
BEGIN:VEVENT
DTSTAMP:20220913T164931
DTSTART:20220919T163000
DTEND:20220919T183000
SUMMARY:Advisory Board to Manage Wildlife
DESCRIPTION:<p><a href="https://www.carsoncity.gov/home/showpublisheddocument/81869/637986845075870000" target="_blank">Agenda</a></p><p><a href="https://www.carsoncity.gov/home/showpublisheddocument/81871/637986845370270000" target="_blank">Support Material</a></p><p><a href="https://www.carsoncity.gov/home/showpublisheddocument/81873/637986845641970000" target="_blank">Draft Minutes&nbsp;</a></p>
X-ALT-DESC;FMTTYPE=text/html:<p><a href="https://www.carsoncity.gov/home/showpublisheddocument/81869/637986845075870000" target="_blank">Agenda</a></p><p><a href="https://www.carsoncity.gov/home/showpublisheddocument/81871/637986845370270000" target="_blank">Support Material</a></p><p><a href="https://www.carsoncity.gov/home/showpublisheddocument/81873/637986845641970000" target="_blank">Draft Minutes&nbsp;</a></p>
LOCATION:Carson City Community Center\, Bonanza Room\, 
CLASS:PUBLIC
END:VEVENT
END:VCALENDAR
