BEGIN:VCALENDAR
VERSION:2.0
PRODID:Carson City Calendar Creator
METHOD:PUBLISH
BEGIN:VEVENT
DTSTAMP:20220916T161642
DTSTART:20220922T173000
DTEND:20220922T235900
SUMMARY:Carson City Library Board of Trustees
DESCRIPTION:<p><a href="https://www.carsoncity.gov/our-city/city-meetings-agendas-minutes-and-broadcast">Live Broadcast</a></p><p><a href="https://www.carsoncity.gov/home/showpublisheddocument/81951/637989415733230000" target="_blank">Supporting Materials</a></p><p><a href="http://carsoncitylibrary.org" target="_blank">carsoncitylibrary.org</a></p>
X-ALT-DESC;FMTTYPE=text/html:<p><a href="https://www.carsoncity.gov/our-city/city-meetings-agendas-minutes-and-broadcast">Live Broadcast</a></p><p><a href="https://www.carsoncity.gov/home/showpublisheddocument/81951/637989415733230000" target="_blank">Supporting Materials</a></p><p><a href="http://carsoncitylibrary.org" target="_blank">carsoncitylibrary.org</a></p>
LOCATION:Community Center\, Robert "Bob" Crowell Board Room\, 851 East William Street Carson City\, Nevada 89701
CLASS:PUBLIC
END:VEVENT
END:VCALENDAR
