BEGIN:VCALENDAR
VERSION:2.0
PRODID:Carson City Calendar Creator
METHOD:PUBLISH
BEGIN:VEVENT
DTSTAMP:20251022T152607
DTSTART:20221003T000000
DTEND:20221003T235900
SUMMARY:Reminder-Property Tax Due
DESCRIPTION:<p><b>ON MONDAY, OCTOBER 3, 2022 THE SECOND INSTALLMENT OF THE FISCAL YEAR 2022-2023 Real Property Taxes</b>&nbsp;are due and payable in the office of the Carson City Treasurer, located inside City Hall, 201 N. Carson Street Suite #5.&nbsp; For your convenience, you can make a payment online at&nbsp;<a href="https://protect-us.mimecast.com/s/VILkCXDA6oSXQoqASmI3cM?domain=carsoncitynv.devnetwedge.com/" target="_blank">www.carsoncity.gov</a>.</p><p><b><i><span style="text-decoration: underline;">If you already made a payment, please disregard this notice.</span></i></b></p>
X-ALT-DESC;FMTTYPE=text/html:<p><b>ON MONDAY, OCTOBER 3, 2022 THE SECOND INSTALLMENT OF THE FISCAL YEAR 2022-2023 Real Property Taxes</b>&nbsp;are due and payable in the office of the Carson City Treasurer, located inside City Hall, 201 N. Carson Street Suite #5.&nbsp; For your convenience, you can make a payment online at&nbsp;<a href="https://protect-us.mimecast.com/s/VILkCXDA6oSXQoqASmI3cM?domain=carsoncitynv.devnetwedge.com/" target="_blank">www.carsoncity.gov</a>.</p><p><b><i><span style="text-decoration: underline;">If you already made a payment, please disregard this notice.</span></i></b></p>
LOCATION:City Hall\, 201 North Carson Street Carson City\, Nevada 89701
CLASS:PUBLIC
END:VEVENT
END:VCALENDAR
