BEGIN:VCALENDAR
VERSION:2.0
PRODID:Carson City Calendar Creator
METHOD:PUBLISH
BEGIN:VEVENT
DTSTAMP:20221012T160647
DTSTART:20221018T173000
DTEND:20221018T235900
SUMMARY:Cultural Commission
DESCRIPTION:<p><a href="https://www.carsoncity.gov/our-city/city-meetings-agendas-minutes-and-broadcast">Webcast</a></p><p><a href="https://www.carsoncity.gov/home/showpublisheddocument/82188/638011872794600000" target="_blank">Agenda w/Supporting Material</a></p>
X-ALT-DESC;FMTTYPE=text/html:<p><a href="https://www.carsoncity.gov/our-city/city-meetings-agendas-minutes-and-broadcast">Webcast</a></p><p><a href="https://www.carsoncity.gov/home/showpublisheddocument/82188/638011872794600000" target="_blank">Agenda w/Supporting Material</a></p>
LOCATION:Community Center\, Robert "Bob" Crowell Board Room\, 851 East William Street Carson City\, Nevada 89701
CLASS:PUBLIC
END:VEVENT
END:VCALENDAR
