BEGIN:VCALENDAR
VERSION:2.0
PRODID:Carson City Calendar Creator
METHOD:PUBLISH
BEGIN:VEVENT
DTSTAMP:20221019T091823
DTSTART:20221025T091500
DTEND:20221025T101500
SUMMARY:Liquor Hearing
DESCRIPTION:<a href="https://www.carsoncity.gov/government/city-meetings-live-broadcast-and-archives/agendas/liquor-hearing/2022-agenda-with-supporting-materials/10-25-2022-agenda-with-supporting-material">10/25/2022 Agenda with Supporting Material</a>
X-ALT-DESC;FMTTYPE=text/html:<a href="https://www.carsoncity.gov/government/city-meetings-live-broadcast-and-archives/agendas/liquor-hearing/2022-agenda-with-supporting-materials/10-25-2022-agenda-with-supporting-material">10/25/2022 Agenda with Supporting Material</a>
LOCATION:Community Development\, Conference Room "A"\, 108 E. Proctor Street Carson City\, Nevada 89701
CLASS:PUBLIC
END:VEVENT
END:VCALENDAR
