BEGIN:VCALENDAR
VERSION:2.0
PRODID:Carson City Calendar Creator
METHOD:PUBLISH
BEGIN:VEVENT
DTSTAMP:20221020T092302
DTSTART:20221026T090000
DTEND:20221026T100000
SUMMARY:Administrative Hearing
DESCRIPTION:<a href="https://www.carsoncity.gov/government/city-meetings-live-broadcast-and-archives/agendas/administrative-permit-review-agendas-w-supporting-materials/2022-agenda-with-supporting-materials/10-26-2022-admin-agenda-with-supporting-material">10/26/2022 Admin Agenda with Supporting Material</a>
X-ALT-DESC;FMTTYPE=text/html:<a href="https://www.carsoncity.gov/government/city-meetings-live-broadcast-and-archives/agendas/administrative-permit-review-agendas-w-supporting-materials/2022-agenda-with-supporting-materials/10-26-2022-admin-agenda-with-supporting-material">10/26/2022 Admin Agenda with Supporting Material</a>
LOCATION:Community Development\, Conference Room "A"\, 108 E. Proctor Street Carson City\, Nevada 89701
CLASS:PUBLIC
END:VEVENT
END:VCALENDAR
