BEGIN:VCALENDAR
VERSION:2.0
PRODID:Carson City Calendar Creator
METHOD:PUBLISH
BEGIN:VEVENT
DTSTAMP:20221023T143216
DTSTART:20221027T173000
DTEND:20221027T235900
SUMMARY:Carson City Library Board of Trustees Meeting
DESCRIPTION:<p><a href="https://www.carsoncity.gov/government/city-meetings">Livestream</a></p><p><a href="https://www.carsoncity.gov/home/showpublisheddocument/82309/638021318188330000" target="_blank">Supporting Materials</a></p><p><a href="https://carsoncitylibrary.org/board-meetings/" target="_blank">carsoncitylibrary.org/board-meetings</a></p>
X-ALT-DESC;FMTTYPE=text/html:<p><a href="https://www.carsoncity.gov/government/city-meetings">Livestream</a></p><p><a href="https://www.carsoncity.gov/home/showpublisheddocument/82309/638021318188330000" target="_blank">Supporting Materials</a></p><p><a href="https://carsoncitylibrary.org/board-meetings/" target="_blank">carsoncitylibrary.org/board-meetings</a></p>
LOCATION:Community Center\, Robert "Bob" Crowell Board Room\, 851 East William Street Carson City\, Nevada 89701
CLASS:PUBLIC
END:VEVENT
END:VCALENDAR
