BEGIN:VCALENDAR
VERSION:2.0
PRODID:Carson City Calendar Creator
METHOD:PUBLISH
BEGIN:VEVENT
DTSTAMP:20221025T152630
DTSTART:20221031T163000
DTEND:20221031T183000
SUMMARY:Advisory Board to Manage Wildlife
DESCRIPTION:<p><a href="https://www.carsoncity.gov/home/showpublisheddocument/82347/638023081804530000" target="_blank">Advisory Board to Manage Wildlife agenda&nbsp;</a></p><p><a href="https://www.carsoncity.gov/home/showpublisheddocument/82351/638023083312230000" target="_blank">Draft Minutes</a></p><p><a href="https://www.carsoncity.gov/home/showpublisheddocument/82353/638023083836170000" target="_blank">Support Material</a>&nbsp;</p>
X-ALT-DESC;FMTTYPE=text/html:<p><a href="https://www.carsoncity.gov/home/showpublisheddocument/82347/638023081804530000" target="_blank">Advisory Board to Manage Wildlife agenda&nbsp;</a></p><p><a href="https://www.carsoncity.gov/home/showpublisheddocument/82351/638023083312230000" target="_blank">Draft Minutes</a></p><p><a href="https://www.carsoncity.gov/home/showpublisheddocument/82353/638023083836170000" target="_blank">Support Material</a>&nbsp;</p>
LOCATION:
CLASS:PUBLIC
END:VEVENT
END:VCALENDAR
