BEGIN:VCALENDAR
VERSION:2.0
PRODID:Carson City Calendar Creator
METHOD:PUBLISH
BEGIN:VEVENT
DTSTAMP:20221108T162937
DTSTART:20221115T133000
DTEND:20221115T133000
SUMMARY:Admin Hearing
DESCRIPTION:<a href="https://www.carsoncity.gov/government/city-meetings-live-broadcast-and-archives/agendas/administrative-permit-review-agendas-w-supporting-materials/2022-agenda-with-supporting-materials/11-15-2022-admin-agenda-with-supporting-material">11/15/2022 Admin Hearing with Supporting Material</a>
X-ALT-DESC;FMTTYPE=text/html:<a href="https://www.carsoncity.gov/government/city-meetings-live-broadcast-and-archives/agendas/administrative-permit-review-agendas-w-supporting-materials/2022-agenda-with-supporting-materials/11-15-2022-admin-agenda-with-supporting-material">11/15/2022 Admin Hearing with Supporting Material</a>
LOCATION:
CLASS:PUBLIC
END:VEVENT
END:VCALENDAR
