BEGIN:VCALENDAR
VERSION:2.0
PRODID:Carson City Calendar Creator
METHOD:PUBLISH
BEGIN:VEVENT
DTSTAMP:20221122T083858
DTSTART:20221129T090000
DTEND:20221129T100000
SUMMARY:Liquor Hearing
DESCRIPTION:<a href="https://www.carsoncity.gov/government/city-meetings-live-broadcast-and-archives/agendas/liquor-hearing/2022-agenda-with-supporting-materials/11-29-2022-liquor-hearing">11/29/2022 Agenda with Supporting Material&nbsp;</a>
X-ALT-DESC;FMTTYPE=text/html:<a href="https://www.carsoncity.gov/government/city-meetings-live-broadcast-and-archives/agendas/liquor-hearing/2022-agenda-with-supporting-materials/11-29-2022-liquor-hearing">11/29/2022 Agenda with Supporting Material&nbsp;</a>
LOCATION:
CLASS:PUBLIC
END:VEVENT
END:VCALENDAR
