BEGIN:VCALENDAR
VERSION:2.0
PRODID:Carson City Calendar Creator
METHOD:PUBLISH
BEGIN:VEVENT
DTSTAMP:20221123T153904
DTSTART:20221201T173000
DTEND:20221201T235900
SUMMARY:Carson City Library Board of Trustees Meeting
DESCRIPTION:<p><a href="https://www.carsoncity.gov/government/city-meetings">City Meetings: Live Broadcast and Archives</a></p><p><a href="https://www.carsoncity.gov/home/showpublisheddocument/82780/638048133580230000" target="_blank">CCL_LBOT_221201_SUPPORTINGMATERIALS</a></p><p><a href="https://carsoncitylibrary.org/board-meetings/" target="_blank">https://carsoncitylibrary.org/board-meetings/</a></p>
X-ALT-DESC;FMTTYPE=text/html:<p><a href="https://www.carsoncity.gov/government/city-meetings">City Meetings: Live Broadcast and Archives</a></p><p><a href="https://www.carsoncity.gov/home/showpublisheddocument/82780/638048133580230000" target="_blank">CCL_LBOT_221201_SUPPORTINGMATERIALS</a></p><p><a href="https://carsoncitylibrary.org/board-meetings/" target="_blank">https://carsoncitylibrary.org/board-meetings/</a></p>
LOCATION:Community Center\, Robert "Bob" Crowell Board Room\, 851 East William Street Carson City\, Nevada 89701
CLASS:PUBLIC
END:VEVENT
END:VCALENDAR
