BEGIN:VCALENDAR
VERSION:2.0
PRODID:Carson City Calendar Creator
METHOD:PUBLISH
BEGIN:VEVENT
DTSTAMP:20230223T112932
DTSTART:20230320T090000
DTEND:20230320T235900
SUMMARY:V&T Railway Commission
DESCRIPTION:<div><a href="https://vtrailway.com/about/vt-commission/" target="_blank">Click here to view agendas &amp; meeting information</a><br><br>For more information call (775) 687-7410.</div><div></div><div></div><div></div><div></div>
X-ALT-DESC;FMTTYPE=text/html:<div><a href="https://vtrailway.com/about/vt-commission/" target="_blank">Click here to view agendas &amp; meeting information</a><br><br>For more information call (775) 687-7410.</div><div></div><div></div><div></div><div></div>
LOCATION:Community Center\, Robert "Bob" Crowell Board Room\, 851 East William Street Carson City\, Nevada 89701
CLASS:PUBLIC
END:VEVENT
END:VCALENDAR
