BEGIN:VCALENDAR
VERSION:2.0
PRODID:Carson City Calendar Creator
METHOD:PUBLISH
BEGIN:VEVENT
DTSTAMP:20230404T120035
DTSTART:20230406T083000
DTEND:20230406T235900
SUMMARY:Board of Supervisors
DESCRIPTION:<p><a href="https://www.carsoncity.gov/government/city-meetings">Webcast&nbsp;</a></p><p><a href="https://www.carsoncity.gov/home/showpublisheddocument/85069/638150871812330000" target="_blank">Notice to the Public:&nbsp;Conveyance of Carson City Property, Without Consideration, for the Development of Affordable Housing&nbsp;3.41 acres at 3320 Butti Way (APN 010-037-06)</a></p><p><a href="https://www.carsoncity.gov/government/city-meetings-live-broadcast-and-archives/agendas/board-of-supervisors-agendas-with-supporting-materials/2023-agendas-with-supporting-materials/04-06-2023-agenda-with-supporting-materials">Agenda with Supporting Materials</a></p>
X-ALT-DESC;FMTTYPE=text/html:<p><a href="https://www.carsoncity.gov/government/city-meetings">Webcast&nbsp;</a></p><p><a href="https://www.carsoncity.gov/home/showpublisheddocument/85069/638150871812330000" target="_blank">Notice to the Public:&nbsp;Conveyance of Carson City Property, Without Consideration, for the Development of Affordable Housing&nbsp;3.41 acres at 3320 Butti Way (APN 010-037-06)</a></p><p><a href="https://www.carsoncity.gov/government/city-meetings-live-broadcast-and-archives/agendas/board-of-supervisors-agendas-with-supporting-materials/2023-agendas-with-supporting-materials/04-06-2023-agenda-with-supporting-materials">Agenda with Supporting Materials</a></p>
LOCATION:Community Center\, Robert "Bob" Crowell Board Room\, 851 East William Street Carson City\, Nevada 89701
CLASS:PUBLIC
END:VEVENT
END:VCALENDAR
