BEGIN:VCALENDAR
VERSION:2.0
PRODID:Carson City Calendar Creator
METHOD:PUBLISH
BEGIN:VEVENT
DTSTAMP:20230516T084747
DTSTART:20230518T083000
DTEND:20230518T235900
SUMMARY:Board of Supervisors
DESCRIPTION:<p><a href="https://www.carsoncity.gov/government/city-meetings">Webcast</a>&nbsp;and <a href="https://www.carsoncity.gov/government/city-meetings-live-broadcast-and-archives/agendas/board-of-supervisors-agendas-with-supporting-materials/2023-agendas-with-supporting-materials/05-18-2023-agenda-with-supporting-materials">Agenda with Supporting Materials</a></p><p><a href="https://www.carsoncity.gov/home/showpublisheddocument/85631/638181820373370000" target="_blank">NOPH 05/18/2023</a></p>
X-ALT-DESC;FMTTYPE=text/html:<p><a href="https://www.carsoncity.gov/government/city-meetings">Webcast</a>&nbsp;and <a href="https://www.carsoncity.gov/government/city-meetings-live-broadcast-and-archives/agendas/board-of-supervisors-agendas-with-supporting-materials/2023-agendas-with-supporting-materials/05-18-2023-agenda-with-supporting-materials">Agenda with Supporting Materials</a></p><p><a href="https://www.carsoncity.gov/home/showpublisheddocument/85631/638181820373370000" target="_blank">NOPH 05/18/2023</a></p>
LOCATION:Community Center\, Robert "Bob" Crowell Board Room\, 851 East William Street Carson City\, Nevada 89701
CLASS:PUBLIC
END:VEVENT
END:VCALENDAR
