BEGIN:VCALENDAR
VERSION:2.0
PRODID:Carson City Calendar Creator
METHOD:PUBLISH
BEGIN:VEVENT
DTSTAMP:20230811T112030
DTSTART:20230817T083000
DTEND:20230817T235900
SUMMARY:Board of Supervisors
DESCRIPTION:<p><a href="https://www.carsoncity.gov/government/city-meetings">Webcast&nbsp;and Agenda with Supporting Material&nbsp;</a></p><p><a href="https://www.carsoncity.gov/home/showpublisheddocument/86741/638273481813670000" target="_blank">08/17/23 BOS Agenda&nbsp;</a></p><p><a href="https://www.carsoncity.gov/home/showpublisheddocument/86651/638264931449470000" target="_blank">Notice of Public Hearing 08/17/2023</a></p>
X-ALT-DESC;FMTTYPE=text/html:<p><a href="https://www.carsoncity.gov/government/city-meetings">Webcast&nbsp;and Agenda with Supporting Material&nbsp;</a></p><p><a href="https://www.carsoncity.gov/home/showpublisheddocument/86741/638273481813670000" target="_blank">08/17/23 BOS Agenda&nbsp;</a></p><p><a href="https://www.carsoncity.gov/home/showpublisheddocument/86651/638264931449470000" target="_blank">Notice of Public Hearing 08/17/2023</a></p>
LOCATION:Community Center\, Robert "Bob" Crowell Board Room\, 851 East William Street Carson City\, Nevada 89701
CLASS:PUBLIC
END:VEVENT
END:VCALENDAR
