BEGIN:VCALENDAR
VERSION:2.0
PRODID:Carson City Calendar Creator
METHOD:PUBLISH
BEGIN:VEVENT
DTSTAMP:20221213T072610
DTSTART:20221216T091500
DTEND:20221216T160000
SUMMARY:PRC & OSAC Special Workshop
DESCRIPTION:<a href="https://www.carsoncity.gov/home/showpublisheddocument/82939" target="_blank">12/16/2022 Special Workshop Agenda</a>
X-ALT-DESC;FMTTYPE=text/html:<a href="https://www.carsoncity.gov/home/showpublisheddocument/82939" target="_blank">12/16/2022 Special Workshop Agenda</a>
LOCATION:
CLASS:PUBLIC
END:VEVENT
END:VCALENDAR
