BEGIN:VCALENDAR
VERSION:2.0
PRODID:Carson City Calendar Creator
METHOD:PUBLISH
BEGIN:VEVENT
DTSTAMP:20230201T113959
DTSTART:20230207T173000
DTEND:20230207T220000
SUMMARY:Parks and Recreation Commission Meeting
DESCRIPTION:<p>&nbsp;</p><p><a href="https://www.carsoncity.gov/home/showpublisheddocument/83787" target="_blank">Agenda&nbsp;</a></p><p><a href="https://www.carsoncity.gov/government/city-meetings-live-broadcast-and-archives/agendas/parks-and-recreation-commission-agenda-with-supporting-materials/02-07-2023-agenda-with-supporting-materials" target="_blank">Agenda with Supporting Materials</a></p><p><a href="https://www.carsoncity.gov/government/city-meetings" target="_blank">Live Broadcast</a></p>
X-ALT-DESC;FMTTYPE=text/html:<p>&nbsp;</p><p><a href="https://www.carsoncity.gov/home/showpublisheddocument/83787" target="_blank">Agenda&nbsp;</a></p><p><a href="https://www.carsoncity.gov/government/city-meetings-live-broadcast-and-archives/agendas/parks-and-recreation-commission-agenda-with-supporting-materials/02-07-2023-agenda-with-supporting-materials" target="_blank">Agenda with Supporting Materials</a></p><p><a href="https://www.carsoncity.gov/government/city-meetings" target="_blank">Live Broadcast</a></p>
LOCATION:Community Center\, Robert "Bob" Crowell Board Room\, 851 East William Street Carson City\, Nevada 89701
CLASS:PUBLIC
END:VEVENT
END:VCALENDAR
