BEGIN:VCALENDAR
VERSION:2.0
PRODID:Carson City Calendar Creator
METHOD:PUBLISH
BEGIN:VEVENT
DTSTAMP:20230809T082558
DTSTART:20230815T173000
DTEND:20230815T220000
SUMMARY:CANCELLED - Parks and Recreation Commission Meeting
DESCRIPTION:<a href="https://www.carsoncity.gov/government/city-meetings-live-broadcast-and-archives/agendas/parks-and-recreation-commission-agenda-with-supporting-materials/2023-agendas-with-supporting-materials/cancelled-08-15-2023-parks-and-recreation-commission-meeting">Notice of Cancellation</a>
X-ALT-DESC;FMTTYPE=text/html:<a href="https://www.carsoncity.gov/government/city-meetings-live-broadcast-and-archives/agendas/parks-and-recreation-commission-agenda-with-supporting-materials/2023-agendas-with-supporting-materials/cancelled-08-15-2023-parks-and-recreation-commission-meeting">Notice of Cancellation</a>
LOCATION:Community Center\, Robert "Bob" Crowell Board Room\, 851 East William Street Carson City\, Nevada 89701
CLASS:PUBLIC
END:VEVENT
END:VCALENDAR
