BEGIN:VCALENDAR
VERSION:2.0
PRODID:Carson City Calendar Creator
METHOD:PUBLISH
BEGIN:VEVENT
DTSTAMP:20230614T095422
DTSTART:20230620T173000
DTEND:20230620T220000
SUMMARY:Joint Open Space Advisory Committee & Parks and Recreation Commission Meeting
DESCRIPTION:<p><a href="https://www.carsoncity.gov/government/city-meetings">Webcast</a></p><p><a href="https://www.carsoncity.gov/government/city-meetings-live-broadcast-and-archives/agendas/open-space-advisory-committee-agendas-with-supporting-materials/2023-agendas-with-supporting-materials/06-20-2023-joint-agenda-with-supporting-materials">Agenda with Supporting Materials</a></p>
X-ALT-DESC;FMTTYPE=text/html:<p><a href="https://www.carsoncity.gov/government/city-meetings">Webcast</a></p><p><a href="https://www.carsoncity.gov/government/city-meetings-live-broadcast-and-archives/agendas/open-space-advisory-committee-agendas-with-supporting-materials/2023-agendas-with-supporting-materials/06-20-2023-joint-agenda-with-supporting-materials">Agenda with Supporting Materials</a></p>
LOCATION:Community Center\, Robert "Bob" Crowell Board Room\, 851 East William Street Carson City\, Nevada 89701
CLASS:PUBLIC
END:VEVENT
END:VCALENDAR
