BEGIN:VCALENDAR
VERSION:2.0
PRODID:Carson City Calendar Creator
METHOD:PUBLISH
BEGIN:VEVENT
DTSTAMP:20230215T094404
DTSTART:20230221T173000
DTEND:20230221T220000
SUMMARY:Open Space Advisory Committee Meeting
DESCRIPTION:<p><a href="https://www.carsoncity.gov/home/showpublisheddocument/84030" target="_blank">Agenda</a></p><p><a href="https://www.carsoncity.gov/government/city-meetings-live-broadcast-and-archives/agendas/open-space-advisory-committee-agendas-with-supporting-materials/02-21-2023-agenda-with-supporting-materials" target="_blank">Agenda with Supporting Materials</a></p><p><a href="https://www.carsoncity.gov/government/city-meetings" target="_blank">Livestream Meeting Information</a></p>
X-ALT-DESC;FMTTYPE=text/html:<p><a href="https://www.carsoncity.gov/home/showpublisheddocument/84030" target="_blank">Agenda</a></p><p><a href="https://www.carsoncity.gov/government/city-meetings-live-broadcast-and-archives/agendas/open-space-advisory-committee-agendas-with-supporting-materials/02-21-2023-agenda-with-supporting-materials" target="_blank">Agenda with Supporting Materials</a></p><p><a href="https://www.carsoncity.gov/government/city-meetings" target="_blank">Livestream Meeting Information</a></p>
LOCATION:Community Center\, Robert "Bob" Crowell Board Room\, 851 East William Street Carson City\, Nevada 89701
CLASS:PUBLIC
END:VEVENT
END:VCALENDAR
