BEGIN:VCALENDAR
VERSION:2.0
PRODID:Carson City Calendar Creator
METHOD:PUBLISH
BEGIN:VEVENT
DTSTAMP:20230418T102606
DTSTART:20230424T173000
DTEND:20230424T220000
SUMMARY:Open Space Advisory Committee Meeting
DESCRIPTION:<p><a href="https://www.carsoncity.gov/government/city-meetings-live-broadcast-and-archives/agendas/open-space-advisory-committee-agendas-with-supporting-materials/2023-agendas-with-supporting-materials/04-24-2023-agenda-with-supporting-materials">Agenda with Supporting Materials</a></p><p><a href="https://www.carsoncity.gov/government/city-meetings">Webcast</a></p><p>Agenda:&nbsp; <a href="https://www.carsoncity.gov/home/showpublisheddocument/85452/638174043866330000" target="_blank">04/24/2023</a></p>
X-ALT-DESC;FMTTYPE=text/html:<p><a href="https://www.carsoncity.gov/government/city-meetings-live-broadcast-and-archives/agendas/open-space-advisory-committee-agendas-with-supporting-materials/2023-agendas-with-supporting-materials/04-24-2023-agenda-with-supporting-materials">Agenda with Supporting Materials</a></p><p><a href="https://www.carsoncity.gov/government/city-meetings">Webcast</a></p><p>Agenda:&nbsp; <a href="https://www.carsoncity.gov/home/showpublisheddocument/85452/638174043866330000" target="_blank">04/24/2023</a></p>
LOCATION:Community Center\, Robert "Bob" Crowell Board Room\, 851 East William Street Carson City\, Nevada 89701
CLASS:PUBLIC
END:VEVENT
END:VCALENDAR
