BEGIN:VCALENDAR
VERSION:2.0
PRODID:Carson City Calendar Creator
METHOD:PUBLISH
BEGIN:VEVENT
DTSTAMP:20230105T165359
DTSTART:20230111T163000
DTEND:20230111T210000
SUMMARY:Regional Transportation Commission
DESCRIPTION:<div><a>Add to my Calendar</a></div><div><p><a href="https://www.carsoncity.gov/home/showpublisheddocument/83395/638085344319330000" target="_blank">RTC Agenda with Supporting Materials</a></p><p data-uw-styling-context="true"><a href="https://www.carsoncity.gov/government/city-meetings" data-uw-styling-context="true">Livestream</a></p></div><p><a href="https://www.carsoncity.gov/home/showpublisheddocument/83391/638085326576570000" target="_blank">Agenda: RTC 01/11/23</a></p>
X-ALT-DESC;FMTTYPE=text/html:<div><a>Add to my Calendar</a></div><div><p><a href="https://www.carsoncity.gov/home/showpublisheddocument/83395/638085344319330000" target="_blank">RTC Agenda with Supporting Materials</a></p><p data-uw-styling-context="true"><a href="https://www.carsoncity.gov/government/city-meetings" data-uw-styling-context="true">Livestream</a></p></div><p><a href="https://www.carsoncity.gov/home/showpublisheddocument/83391/638085326576570000" target="_blank">Agenda: RTC 01/11/23</a></p>
LOCATION:Community Center\, Robert "Bob" Crowell Board Room\, 851 East William Street Carson City\, Nevada 89701
CLASS:PUBLIC
END:VEVENT
END:VCALENDAR
