BEGIN:VCALENDAR
VERSION:2.0
PRODID:Carson City Calendar Creator
METHOD:PUBLISH
BEGIN:VEVENT
DTSTAMP:20230105T152547
DTSTART:20230112T173000
DTEND:20230112T235900
SUMMARY:Historic Resources Commission
DESCRIPTION:<p><a href="https://www.carsoncity.gov/government/city-meetings-live-broadcast-and-archives/agendas/historic-resources-commission-agendas-with-supporting-materials/2023-hrc-agendas-w-supporting-materials/01-12-2022-historic-resources-commission-agenda-with-supporting-materials">1/12/2023 Agenda with Supporting Material&nbsp;</a></p><p><a href="https://www.carsoncity.gov/our-city/city-meetings-agendas-minutes-and-broadcast">Webcast&nbsp;</a></p>
X-ALT-DESC;FMTTYPE=text/html:<p><a href="https://www.carsoncity.gov/government/city-meetings-live-broadcast-and-archives/agendas/historic-resources-commission-agendas-with-supporting-materials/2023-hrc-agendas-w-supporting-materials/01-12-2022-historic-resources-commission-agenda-with-supporting-materials">1/12/2023 Agenda with Supporting Material&nbsp;</a></p><p><a href="https://www.carsoncity.gov/our-city/city-meetings-agendas-minutes-and-broadcast">Webcast&nbsp;</a></p>
LOCATION:Community Center\, Robert "Bob" Crowell Board Room\, 851 East William Street Carson City\, Nevada 89701
CLASS:PUBLIC
END:VEVENT
END:VCALENDAR
