BEGIN:VCALENDAR
VERSION:2.0
PRODID:Carson City Calendar Creator
METHOD:PUBLISH
BEGIN:VEVENT
DTSTAMP:20230412T144220
DTSTART:20230412T163000
DTEND:20230412T193000
SUMMARY:Regional Transportation Commission
DESCRIPTION:<div><a>Add to my Calendar</a></div><div><p><a href="https://www.carsoncity.gov/home/showpublisheddocument/85247/638163846257230000" target="_blank">RTC Agenda with Supporting Materials</a></p><p data-uw-styling-context="true"><a href="https://www.carsoncity.gov/government/city-meetings" data-uw-styling-context="true">Livestream</a></p><p data-uw-styling-context="true"><a href="https://www.carsoncity.gov/home/showpublisheddocument/85245/638163845677970000" target="_blank">Agenda: RTC 4/12/23</a></p></div>
X-ALT-DESC;FMTTYPE=text/html:<div><a>Add to my Calendar</a></div><div><p><a href="https://www.carsoncity.gov/home/showpublisheddocument/85247/638163846257230000" target="_blank">RTC Agenda with Supporting Materials</a></p><p data-uw-styling-context="true"><a href="https://www.carsoncity.gov/government/city-meetings" data-uw-styling-context="true">Livestream</a></p><p data-uw-styling-context="true"><a href="https://www.carsoncity.gov/home/showpublisheddocument/85245/638163845677970000" target="_blank">Agenda: RTC 4/12/23</a></p></div>
LOCATION:Community Center\, Robert "Bob" Crowell Board Room\, 851 East William Street Carson City\, Nevada 89701
CLASS:PUBLIC
END:VEVENT
END:VCALENDAR
