BEGIN:VCALENDAR
VERSION:2.0
PRODID:Carson City Calendar Creator
METHOD:PUBLISH
BEGIN:VEVENT
DTSTAMP:20230208T151853
DTSTART:20230208T163000
DTEND:20230208T210000
SUMMARY:Carson Area Metropolitan Planning Organization
DESCRIPTION:<p><a href="https://www.carsoncity.gov/home/showpublisheddocument/83868/638112697140370000" target="_blank">CAMPO Agenda with Supporting Materials</a></p><p><a href="https://www.carsoncity.gov/home/showpublisheddocument/83908/638114661209930000" target="_blank">Late Material Item 5A</a></p><p data-uw-styling-context="true"><a href="https://www.carsoncity.gov/government/city-meetings" data-uw-styling-context="true">Livestream</a></p><p data-uw-styling-context="true"><a href="https://www.carsoncity.gov/home/showpublisheddocument/83866/638112696816430000" target="_blank">Agenda: CAMPO 2/8/23</a></p>
X-ALT-DESC;FMTTYPE=text/html:<p><a href="https://www.carsoncity.gov/home/showpublisheddocument/83868/638112697140370000" target="_blank">CAMPO Agenda with Supporting Materials</a></p><p><a href="https://www.carsoncity.gov/home/showpublisheddocument/83908/638114661209930000" target="_blank">Late Material Item 5A</a></p><p data-uw-styling-context="true"><a href="https://www.carsoncity.gov/government/city-meetings" data-uw-styling-context="true">Livestream</a></p><p data-uw-styling-context="true"><a href="https://www.carsoncity.gov/home/showpublisheddocument/83866/638112696816430000" target="_blank">Agenda: CAMPO 2/8/23</a></p>
LOCATION:Community Center\, Robert "Bob" Crowell Board Room\, 851 East William Street Carson City\, Nevada 89701
CLASS:PUBLIC
END:VEVENT
END:VCALENDAR
