BEGIN:VCALENDAR
VERSION:2.0
PRODID:Carson City Calendar Creator
METHOD:PUBLISH
BEGIN:VEVENT
DTSTAMP:20230315T150959
DTSTART:20230321T130000
DTEND:20230321T150000
SUMMARY:Utility Finance Oversight Committee
DESCRIPTION:<p><a href="https://www.carsoncity.gov/home/showpublisheddocument/85041/638144883514270000" target="_blank">Agenda</a></p><p><a href="https://www.carsoncity.gov/government/city-meetings/agendas/utility-finance-oversight-committee-agendas-with-supporting-materials/-fsiteid-1#!/" target="_blank">Agenda with Supporting Materials</a></p><p><a href="https://www.carsoncity.gov/government/city-meetings">Livestream</a></p>
X-ALT-DESC;FMTTYPE=text/html:<p><a href="https://www.carsoncity.gov/home/showpublisheddocument/85041/638144883514270000" target="_blank">Agenda</a></p><p><a href="https://www.carsoncity.gov/government/city-meetings/agendas/utility-finance-oversight-committee-agendas-with-supporting-materials/-fsiteid-1#!/" target="_blank">Agenda with Supporting Materials</a></p><p><a href="https://www.carsoncity.gov/government/city-meetings">Livestream</a></p>
LOCATION:Community Center\, Robert "Bob" Crowell Board Room\, 851 East William Street Carson City\, Nevada 89701
CLASS:PUBLIC
END:VEVENT
END:VCALENDAR
