BEGIN:VCALENDAR
VERSION:2.0
PRODID:Carson City Calendar Creator
METHOD:PUBLISH
BEGIN:VEVENT
DTSTAMP:20230126T133845
DTSTART:20230123T173000
DTEND:20230123T193000
SUMMARY:CANCELLED-Advisory Board to Manage Wildlife
DESCRIPTION:<p><strong>MEETING CANCELLED DUE TO LACK OF QUORUM&nbsp;</strong></p><p><a href="https://www.carsoncity.gov/home/showpublisheddocument/83425/638091230506670000" target="_blank">Advisory Board to Manage Wildlfe Agenda</a></p><p><a href="https://www.carsoncity.gov/home/showpublisheddocument/83431/638091239640470000" target="_blank">Supporting Materials</a></p><p><a href="https://www.carsoncity.gov/home/showpublisheddocument/83481/638091248217770000" target="_blank">10-31-2022 Draft Minutes</a></p>
X-ALT-DESC;FMTTYPE=text/html:<p><strong>MEETING CANCELLED DUE TO LACK OF QUORUM&nbsp;</strong></p><p><a href="https://www.carsoncity.gov/home/showpublisheddocument/83425/638091230506670000" target="_blank">Advisory Board to Manage Wildlfe Agenda</a></p><p><a href="https://www.carsoncity.gov/home/showpublisheddocument/83431/638091239640470000" target="_blank">Supporting Materials</a></p><p><a href="https://www.carsoncity.gov/home/showpublisheddocument/83481/638091248217770000" target="_blank">10-31-2022 Draft Minutes</a></p>
LOCATION:
CLASS:PUBLIC
END:VEVENT
END:VCALENDAR
