BEGIN:VCALENDAR
VERSION:2.0
PRODID:Carson City Calendar Creator
METHOD:PUBLISH
BEGIN:VEVENT
DTSTAMP:20230119T084640
DTSTART:20230125T133000
DTEND:20230125T143000
SUMMARY:Administrative Hearing
DESCRIPTION:<p><a href="https://www.carsoncity.gov/government/city-meetings-live-broadcast-and-archives/agendas/administrative-permit-review-agendas-w-supporting-materials/2023-agenda-with-supporting-materials/01-25-2023-admin-agenda-with-supporting-material">1/25/2023 Agenda with Supporting Material</a></p><p><a href="https://www.carsoncity.gov/our-city/city-meetings-agendas-minutes-and-broadcast">&nbsp;Webcast</a></p>
X-ALT-DESC;FMTTYPE=text/html:<p><a href="https://www.carsoncity.gov/government/city-meetings-live-broadcast-and-archives/agendas/administrative-permit-review-agendas-w-supporting-materials/2023-agenda-with-supporting-materials/01-25-2023-admin-agenda-with-supporting-material">1/25/2023 Agenda with Supporting Material</a></p><p><a href="https://www.carsoncity.gov/our-city/city-meetings-agendas-minutes-and-broadcast">&nbsp;Webcast</a></p>
LOCATION:
CLASS:PUBLIC
END:VEVENT
END:VCALENDAR
