BEGIN:VCALENDAR
VERSION:2.0
PRODID:Carson City Calendar Creator
METHOD:PUBLISH
BEGIN:VEVENT
DTSTAMP:20230531T165117
DTSTART:20230606T133000
DTEND:20230606T143000
SUMMARY:Local Emergency Planning Committee
DESCRIPTION:<a href="https://www.carsoncity.gov/home/showpublisheddocument/85975/638211478466770000" target="_blank">LEPC Agenda 06.06.23</a>
X-ALT-DESC;FMTTYPE=text/html:<a href="https://www.carsoncity.gov/home/showpublisheddocument/85975/638211478466770000" target="_blank">LEPC Agenda 06.06.23</a>
LOCATION:Carson City Fire Department\, 777 S Stewart St. Carson City\, Nevada 89701
CLASS:PUBLIC
END:VEVENT
END:VCALENDAR
