BEGIN:VCALENDAR
VERSION:2.0
PRODID:Carson City Calendar Creator
METHOD:PUBLISH
BEGIN:VEVENT
DTSTAMP:20231011T103004
DTSTART:20231017T083000
DTEND:20231017T093000
SUMMARY:9-1-1 Surcharge Advisory Committee
DESCRIPTION:<a href="https://www.carsoncity.gov/home/showpublisheddocument/87341/638326165130070000" target="_blank">911 Agenda 10.17.23</a>
X-ALT-DESC;FMTTYPE=text/html:<a href="https://www.carsoncity.gov/home/showpublisheddocument/87341/638326165130070000" target="_blank">911 Agenda 10.17.23</a>
LOCATION:Carson City Fire Department\, 777 S Stewart St. Carson City\, Nevada 89701
CLASS:PUBLIC
END:VEVENT
END:VCALENDAR
