BEGIN:VCALENDAR
VERSION:2.0
PRODID:Carson City Calendar Creator
METHOD:PUBLISH
BEGIN:VEVENT
DTSTAMP:20231129T112630
DTSTART:20231205T133000
DTEND:20231205T143000
SUMMARY:Local Emergency Planning Committee
DESCRIPTION:<a href="https://www.carsoncity.gov/home/showpublisheddocument/87838/638368538108900000" target="_blank">LEPC Agenda 12.05.23</a>
X-ALT-DESC;FMTTYPE=text/html:<a href="https://www.carsoncity.gov/home/showpublisheddocument/87838/638368538108900000" target="_blank">LEPC Agenda 12.05.23</a>
LOCATION:Carson City Fire Department\, 777 S Stewart St. Carson City\, Nevada 89701
CLASS:PUBLIC
END:VEVENT
END:VCALENDAR
